BEGIN:VCALENDAR
VERSION:2.0
PRODID:-//劉謙國文 - ECPv6.15.8//NONSGML v1.0//EN
CALSCALE:GREGORIAN
METHOD:PUBLISH
X-ORIGINAL-URL:https://humbleliuchinese.com
X-WR-CALDESC:劉謙國文 的事件
REFRESH-INTERVAL;VALUE=DURATION:PT1H
X-Robots-Tag:noindex
X-PUBLISHED-TTL:PT1H
BEGIN:VTIMEZONE
TZID:Asia/Taipei
BEGIN:STANDARD
TZOFFSETFROM:+0800
TZOFFSETTO:+0800
TZNAME:CST
DTSTART:20250101T000000
END:STANDARD
END:VTIMEZONE
BEGIN:VEVENT
DTSTART;TZID=Asia/Taipei:20260606T163000
DTEND;TZID=Asia/Taipei:20260606T180000
DTSTAMP:20260421T223158
CREATED:20260327T162039Z
LAST-MODIFIED:20260327T162040Z
UID:3411-1780763400-1780768800@humbleliuchinese.com
SUMMARY:2026升七親子共學體驗課程
DESCRIPTION:從【論語】到【近體詩】再到【白話短篇散文】再到【長篇閱讀理解】\, 升七的孩子面對國中國文大幅度難度提升依定充滿恐懼，升七六月開班，讓孩子短時間即能快速讀懂文言難題並擁有閱讀長篇文章並判斷題旨的思考力!! \n適合年齡:升七年級家長與孩子! \n時間:2026/6/6 六下午 16:30-18:00 \n快來呼朋引伴免費體驗最精實的國文課程喔!
URL:https://humbleliuchinese.com/event/2026%e5%8d%87%e4%b8%83%e8%a6%aa%e5%ad%90%e5%85%b1%e5%ad%b8%e9%ab%94%e9%a9%97%e8%aa%b2%e7%a8%8b/
CATEGORIES:免費活動
ATTACH;FMTTYPE=image/jpeg:https://humbleliuchinese.com/wp-content/uploads/2026/03/2026升七親子共學.jpg
END:VEVENT
BEGIN:VEVENT
DTSTART;TZID=Asia/Taipei:20260620T163000
DTEND;TZID=Asia/Taipei:20260620T173000
DTSTAMP:20260421T223158
CREATED:20260327T160516Z
LAST-MODIFIED:20260327T162832Z
UID:3394-1781973000-1781976600@humbleliuchinese.com
SUMMARY:2026小六私中語文活動(字形辨析與成語故事)
DESCRIPTION:歡迎想考私中的、加強語文實力的升小五與小六的孩子們 \n及早加入我們最扎實的國文課行列喔! \n課程包含: 字音字形、成語典故、閱讀理解、作文思辨、文言閱讀…… \n新一期小六班將於7/11 起(六) 16:30-18:30開班授課！
URL:https://humbleliuchinese.com/event/2026%e5%b0%8f%e5%85%ad%e7%a7%81%e4%b8%ad%e8%aa%9e%e4%bd%9c%e6%b4%bb%e5%8b%95%e5%ad%97%e5%bd%a2%e8%be%a8%e6%9e%90%e8%88%87%e6%88%90%e8%aa%9e%e6%95%85%e4%ba%8b/
CATEGORIES:免費活動
ATTACH;FMTTYPE=image/jpeg:https://humbleliuchinese.com/wp-content/uploads/2026/03/2026升小六私中活動.jpg
END:VEVENT
END:VCALENDAR