BEGIN:VCALENDAR
VERSION:2.0
PRODID:-//劉謙國文 - ECPv6.15.8//NONSGML v1.0//EN
CALSCALE:GREGORIAN
METHOD:PUBLISH
X-WR-CALNAME:劉謙國文
X-ORIGINAL-URL:https://humbleliuchinese.com
X-WR-CALDESC:劉謙國文 的事件
REFRESH-INTERVAL;VALUE=DURATION:PT1H
X-Robots-Tag:noindex
X-PUBLISHED-TTL:PT1H
BEGIN:VTIMEZONE
TZID:Asia/Taipei
BEGIN:STANDARD
TZOFFSETFROM:+0800
TZOFFSETTO:+0800
TZNAME:CST
DTSTART:20240101T000000
END:STANDARD
END:VTIMEZONE
BEGIN:VEVENT
DTSTART;TZID=Asia/Taipei:20250628T183000
DTEND;TZID=Asia/Taipei:20250628T203000
DTSTAMP:20260421T234544
CREATED:20250604T015326Z
LAST-MODIFIED:20250604T015831Z
UID:3298-1751135400-1751142600@humbleliuchinese.com
SUMMARY:6/28 王昊升八理化實驗來囉!
DESCRIPTION:最風趣帥氣的老師! \n最好玩的實驗!王昊老師!一定要好好認識! \n  \n快來參加免費的理化實驗活動吧! \n 
URL:https://humbleliuchinese.com/event/6-28-%e7%8e%8b%e6%98%8a%e5%8d%87%e5%85%ab%e7%90%86%e5%8c%96%e5%af%a6%e9%a9%97%e4%be%86%e5%9b%89/
CATEGORIES:免費活動
ATTACH;FMTTYPE=image/jpeg:https://humbleliuchinese.com/wp-content/uploads/2025/06/新增標題-2000-x-765-像素.jpg
END:VEVENT
BEGIN:VEVENT
DTSTART;TZID=Asia/Taipei:20250614T163000
DTEND;TZID=Asia/Taipei:20250614T173000
DTSTAMP:20260421T234544
CREATED:20250112T075432Z
LAST-MODIFIED:20250308T153659Z
UID:3119-1749918600-1749922200@humbleliuchinese.com
SUMMARY:小六私中語作活動(字形辨析與成語故事)
DESCRIPTION:歡迎想考私中的、加強語文實力的升小五小六的孩子們 \n及早加入我們最扎實的國文課行列喔! \n新一期小六班將於6/28 起 16:30-18:30開班授課！
URL:https://humbleliuchinese.com/event/%e5%b0%8f%e5%85%ad%e7%a7%81%e4%b8%ad%e8%aa%9e%e4%bd%9c%e6%b4%bb%e5%8b%95%e5%ad%97%e5%bd%a2%e8%be%a8%e6%9e%90%e8%88%87%e6%88%90%e8%aa%9e%e6%95%85%e4%ba%8b/
LOCATION:劉謙文理補習班\, 台北市復興北路62號2樓\, Taiwan
CATEGORIES:免費活動
ATTACH;FMTTYPE=image/jpeg:https://humbleliuchinese.com/wp-content/uploads/2025/01/111.jpg
END:VEVENT
BEGIN:VEVENT
DTSTART;TZID=Asia/Taipei:20250607T140000
DTEND;TZID=Asia/Taipei:20250607T160000
DTSTAMP:20260421T234544
CREATED:20250109T203054Z
LAST-MODIFIED:20250109T203054Z
UID:3107-1749304800-1749312000@humbleliuchinese.com
SUMMARY:6/7升七數學講座之指數律與經典題型
DESCRIPTION:呂安老師提供創造性的教學方法和引人入勝的解說，以激發學生對數學的熱情。 \n透過多樣化的教學策略，能夠激發學生的學習動機，培養對數學的好感度，進而多加練習題目，便能準備萬全因應不久後到來的會考，為同學未來的學術和職業發展奠定堅實的基礎。 \n\n最有愛的老師與最棒的互動，歡迎來參加免費升七數學活動!
URL:https://humbleliuchinese.com/event/6-7%e5%8d%87%e4%b8%83%e6%95%b8%e5%ad%b8%e8%ac%9b%e5%ba%a7%e4%b9%8b%e6%8c%87%e6%95%b8%e5%be%8b%e8%88%87%e7%b6%93%e5%85%b8%e9%a1%8c%e5%9e%8b/
CATEGORIES:免費活動
ATTACH;FMTTYPE=image/jpeg:https://humbleliuchinese.com/wp-content/uploads/2025/01/4-2.jpg
END:VEVENT
BEGIN:VEVENT
DTSTART;TZID=Asia/Taipei:20250601T040000
DTEND;TZID=Asia/Taipei:20250601T173000
DTSTAMP:20260421T234544
CREATED:20250110T020003Z
LAST-MODIFIED:20250110T020115Z
UID:3110-1748750400-1748799000@humbleliuchinese.com
SUMMARY:劉謙國文班升七親子共學來囉!
DESCRIPTION:108課綱下素養的題型越來越活潑，而影響答題正確率最大的關鍵點就是孩子的「閱讀能力」還有「思考判斷能力」! \n傳統的詩詞或文言文教學，我們可以給孩子詞義與字彙上解釋跟加強孩子判讀整體文意的能力 \n新式的素養閱讀或是新式作文則訓練孩子的邏輯與想法，如何快速整理出文章所提供的知識方向與要求你作文呈現的布局方向 \n歡迎家長與孩子一同參加我們最棒的升七國文親子共學活動! 讓孩子掌握正確的學習方向並能贏在起跑點! \n  \n  \n\n 
URL:https://humbleliuchinese.com/event/%e5%8a%89%e8%ac%99%e5%9c%8b%e6%96%87%e7%8f%ad%e5%8d%87%e4%b8%83%e5%b9%b4%e7%b4%9a%e8%a6%aa%e5%ad%90%e5%85%b1%e5%ad%b8%e4%be%86%e5%9b%89/
LOCATION:劉謙文理補習班\, 台北市復興北路62號2樓\, Taiwan
CATEGORIES:免費活動
ATTACH;FMTTYPE=image/jpeg:https://humbleliuchinese.com/wp-content/uploads/2025/01/20250601.jpg
END:VEVENT
BEGIN:VEVENT
DTSTART;TZID=Asia/Taipei:20250531T140000
DTEND;TZID=Asia/Taipei:20250531T160000
DTSTAMP:20260421T234544
CREATED:20250109T202830Z
LAST-MODIFIED:20250109T203130Z
UID:3104-1748700000-1748707200@humbleliuchinese.com
SUMMARY:5/31升七數學講座之科學記號與經典題型
DESCRIPTION:呂安老師提供創造性的教學方法和引人入勝的解說，以激發學生對數學的熱情。 \n透過多樣化的教學策略，能夠激發學生的學習動機，培養對數學的好感度，進而多加練習題目，便能準備萬全因應不久後到來的會考，為同學未來的學術和職業發展奠定堅實的基礎。 \n最有愛的老師與最棒的互動，歡迎來參加免費升七數學活動!
URL:https://humbleliuchinese.com/event/5-31%e5%8d%87%e4%b8%83%e6%95%b8%e5%ad%b8%e8%ac%9b%e5%ba%a7%e4%b9%8b%e7%a7%91%e5%ad%b8%e8%a8%98%e8%99%9f%e8%88%87%e7%b6%93%e5%85%b8%e9%a1%8c%e5%9e%8b/
CATEGORIES:免費活動
ATTACH;FMTTYPE=image/jpeg:https://humbleliuchinese.com/wp-content/uploads/2025/01/3-2.jpg
END:VEVENT
BEGIN:VEVENT
DTSTART;TZID=Asia/Taipei:20250524T140000
DTEND;TZID=Asia/Taipei:20250524T160000
DTSTAMP:20260421T234544
CREATED:20250109T202610Z
LAST-MODIFIED:20250109T203152Z
UID:3101-1748095200-1748102400@humbleliuchinese.com
SUMMARY:5/24升七數學講座之因數與倍數
DESCRIPTION:呂安老師提供創造性的教學方法和引人入勝的解說，以激發學生對數學的熱情。 \n透過多樣化的教學策略，能夠激發學生的學習動機，培養對數學的好感度，進而多加練習題目，便能準備萬全因應不久後到來的會考，為同學未來的學術和職業發展奠定堅實的基礎。 \n\n最有愛的老師與最棒的互動，歡迎來參加免費升七數學活動!
URL:https://humbleliuchinese.com/event/5-24%e5%8d%87%e4%b8%83%e6%95%b8%e5%ad%b8%e8%ac%9b%e5%ba%a7%e4%b9%8b%e5%9b%a0%e6%95%b8%e8%88%87%e5%80%8d%e6%95%b8/
CATEGORIES:免費活動
ATTACH;FMTTYPE=image/jpeg:https://humbleliuchinese.com/wp-content/uploads/2025/01/2-2.jpg
END:VEVENT
BEGIN:VEVENT
DTSTART;TZID=Asia/Taipei:20250517T140000
DTEND;TZID=Asia/Taipei:20250517T160000
DTSTAMP:20260421T234544
CREATED:20250109T202159Z
LAST-MODIFIED:20250109T202345Z
UID:3096-1747490400-1747497600@humbleliuchinese.com
SUMMARY:5/17升七數學講座之正負數的規則
DESCRIPTION:呂安老師提供創造性的教學方法和引人入勝的解說，以激發學生對數學的熱情。 \n透過多樣化的教學策略，能夠激發學生的學習動機，培養對數學的好感度，進而多加練習題目，便能準備萬全因應不久後到來的會考，為同學未來的學術和職業發展奠定堅實的基礎。 \n  \n最有愛的老師與最棒的互動，歡迎來參加免費升七數學活動!
URL:https://humbleliuchinese.com/event/5-17%e5%8d%87%e4%b8%83%e6%95%b8%e5%ad%b8%e8%ac%9b%e5%ba%a7%e4%b9%8b%e6%ad%a3%e8%b2%a0%e6%95%b8%e7%9a%84%e8%a6%8f%e5%89%87/
CATEGORIES:免費活動
ATTACH;FMTTYPE=image/jpeg:https://humbleliuchinese.com/wp-content/uploads/2025/01/1-2.jpg
END:VEVENT
BEGIN:VEVENT
DTSTART;TZID=Asia/Taipei:20250517T140000
DTEND;TZID=Asia/Taipei:20250517T150000
DTSTAMP:20260421T234544
CREATED:20250422T152000Z
LAST-MODIFIED:20250422T152226Z
UID:3275-1747490400-1747494000@humbleliuchinese.com
SUMMARY:5/17 升九生物講座:病毒結構與生物分類
DESCRIPTION:最優秀的百倫老師等大家一起認識 \n時間:5/17(六)14:00-15:00 \n升九的孩子絕對不要錯過喔!
URL:https://humbleliuchinese.com/event/5-17-%e5%8d%87%e4%b9%9d%e7%94%9f%e7%89%a9%e8%ac%9b%e5%ba%a7%e7%97%85%e6%af%92%e7%b5%90%e6%a7%8b%e8%88%87%e7%94%9f%e7%89%a9%e5%88%86%e9%a1%9e/
LOCATION:劉謙文理補習班\, 台北市復興北路62號2樓\, Taiwan
CATEGORIES:免費活動
ATTACH;FMTTYPE=image/jpeg:https://humbleliuchinese.com/wp-content/uploads/2025/04/新增標題-2000-x-765-像素.jpg
END:VEVENT
BEGIN:VEVENT
DTSTART;TZID=Asia/Taipei:20250413T170000
DTEND;TZID=Asia/Taipei:20250413T190000
DTSTAMP:20260421T234544
CREATED:20241228T144449Z
LAST-MODIFIED:20250103T162200Z
UID:2818-1744563600-1744570800@humbleliuchinese.com
SUMMARY:2025八升九親師說明會
DESCRIPTION:九年級是急需衝刺與奮鬥的一年!! \n我們有全科會考魔鬼衝刺與輔導計畫!!! \n配合108課綱的素養導向，今年國學課程全新改版!! 九國模考題型也結合素養題目一直變化與更新! \n我們將介紹: \n\n短期十週國學課全新改版的題型分析(素養題) \n\n九國會考衝刺模考課程(含傳統作文與圖表作文全方位衝刺) \n\n九英會考衝刺強化課程 \n\n九數會考衝刺複習與進度課程 \n\n九自會考衝刺複習與進度課程(含地科總複習) \n\n九社會考線上完整1-6冊課程與模擬試題 \n全方位的九年級衝刺與考題大升級，絕對不能錯過!!! \n\n 
URL:https://humbleliuchinese.com/event/2025%e5%8d%87%e4%b9%9d%e8%a6%aa%e5%b8%ab%e8%aa%aa%e6%98%8e%e6%9c%83/
CATEGORIES:免費活動
ATTACH;FMTTYPE=image/jpeg:https://humbleliuchinese.com/wp-content/uploads/2024/12/3-2.jpg
END:VEVENT
BEGIN:VEVENT
DTSTART;TZID=Asia/Taipei:20250309T170000
DTEND;TZID=Asia/Taipei:20250309T190000
DTSTAMP:20260421T234544
CREATED:20241228T143317Z
LAST-MODIFIED:20250103T162112Z
UID:2812-1741539600-1741546800@humbleliuchinese.com
SUMMARY:2025七升八親師說明會
DESCRIPTION:七升八的孩子國文班要轉班畫位囉!! 想搶好位置的家長們要提早到班拿號碼牌喔!!! \n八年級的國文難度將漸漸變強，從近體詩到古體詩，從白話文選到史記與世說新語 \n如果七年級的程度沒有打穩，八年級要怎樣才能急起直追呢? \n我們將介紹: \n\n108課綱國文科與八年級重點單元 \n\n108課綱數學科與進度輔導安排 \n\n108課綱英文科與中級檢定 \n\n108課綱理化科進度與輔導方式 \n\n108課綱社會線上課程 \n想認識我們優質各科老師的家長們，歡迎參加我們這場說明會!
URL:https://humbleliuchinese.com/event/2025%e4%b8%83%e5%8d%87%e5%85%ab%e8%a6%aa%e5%b8%ab%e8%aa%aa%e6%98%8e%e6%9c%83/
CATEGORIES:免費活動
ATTACH;FMTTYPE=image/jpeg:https://humbleliuchinese.com/wp-content/uploads/2024/12/2-1.jpg
END:VEVENT
BEGIN:VEVENT
DTSTART;TZID=Asia/Taipei:20250302T170000
DTEND;TZID=Asia/Taipei:20250302T190000
DTSTAMP:20260421T234544
CREATED:20241227T192830Z
LAST-MODIFIED:20250101T161303Z
UID:2796-1740934800-1740942000@humbleliuchinese.com
SUMMARY:2025六升七親師說明會
DESCRIPTION:108課綱下如何讓孩子超前部署?! \n\n小學國文私中班的重要性? 為什麼國文科越來越多孩子偷跑?! \n如何讓孩子贏在起跑點? \n七年級國文科學習強調什麼? \n我們將介紹: \n\n\n108課綱國文科與新式作文的教法 \n108課綱英文科與英檢檢定 \n108課綱數學科與專業輔導 \n108課綱生物科與複習計畫 \n108課綱社會線上課程 \n歡迎升七或升小六的家長們來參加我們的親師座談會!
URL:https://humbleliuchinese.com/event/2796/
CATEGORIES:免費活動
ATTACH;FMTTYPE=image/jpeg:https://humbleliuchinese.com/wp-content/uploads/2024/12/1-1.jpg
END:VEVENT
BEGIN:VEVENT
DTSTART;TZID=Asia/Taipei:20250216T170000
DTEND;TZID=Asia/Taipei:20250216T190000
DTSTAMP:20260421T234544
CREATED:20250101T160645Z
LAST-MODIFIED:20250103T162227Z
UID:2959-1739725200-1739732400@humbleliuchinese.com
SUMMARY:114年會考題型解析與猜題及升高中各科說明會
DESCRIPTION:現在家長越來越愛精緻小班教學，包括高中部的孩子，只有精緻小班才能給予孩子全新的照顧與輔導! \n歡迎九年級的家長跟孩子來一起認識我們最優質的教學與計畫，也可以透說明會來了解現在會考各科的考題出題方式與重點大方向!， \n講座老師:。 \n劉謙國文(琬婷老師):高中部專任老師，九年級國文班的第一把交椅，深受孩子喜愛! \n呂安數學:赫哲十年高中經驗，精緻小班，週六親自解題! \n林勁英文:英檢高手，結合高中的課程與檢定，讓孩子的英文跟得上國際趨勢。 \n 
URL:https://humbleliuchinese.com/event/114%e5%b9%b4%e6%9c%83%e8%80%83%e9%a1%8c%e5%9e%8b%e8%a7%a3%e6%9e%90%e8%88%87%e7%8c%9c%e9%a1%8c%e5%8f%8a%e5%8d%87%e9%ab%98%e4%b8%ad%e5%90%84%e7%a7%91%e8%aa%aa%e6%98%8e%e6%9c%83/
LOCATION:劉謙文理補習班\, 台北市復興北路62號2樓\, Taiwan
CATEGORIES:免費活動
ATTACH;FMTTYPE=image/jpeg:https://humbleliuchinese.com/wp-content/uploads/2025/01/新增標題-59.4-x-42-公分-2000-x-765-像素.jpg
END:VEVENT
BEGIN:VEVENT
DTSTART;TZID=Asia/Taipei:20250120T180000
DTEND;TZID=Asia/Taipei:20250120T200000
DTSTAMP:20260421T234544
CREATED:20241226T162049Z
LAST-MODIFIED:20250109T183845Z
UID:2721-1737396000-1737403200@humbleliuchinese.com
SUMMARY:七升八寒假理化實驗型男王昊來囉!
DESCRIPTION:最帥氣與專業的理化老師 \n翰林雲端學院108新課綱線上老師 \n著作：國中理化一點都不難 \n最高學歷：清華大學數理教育所 \n這麼優質還不來參加!!
URL:https://humbleliuchinese.com/event/%e9%80%99%e6%98%af%e4%b8%80%e5%80%8b%e6%b4%bb%e5%8b%95%e7%a4%ba%e7%af%84%ef%bc%88%e8%ab%8b%e8%87%aa%e5%b7%b1%e6%8f%9b%e5%9c%96%e7%89%87/
CATEGORIES:免費活動
ATTACH;FMTTYPE=image/jpeg:https://humbleliuchinese.com/wp-content/uploads/2024/12/七升八理化實驗活動-2000-x-765-像素-1.jpg
END:VEVENT
BEGIN:VEVENT
DTSTART;TZID=Asia/Taipei:20250108T170000
DTEND;TZID=Asia/Taipei:20250108T183000
DTSTAMP:20260421T234544
CREATED:20241226T153021Z
LAST-MODIFIED:20250103T162305Z
UID:2653-1736355600-1736361000@humbleliuchinese.com
SUMMARY:七年級生物三段總複習活動又來囉!
DESCRIPTION:林百倫老師再次帶給大家嶄新的三段素養考題: \nCH5生物體協調作用 \nCH6生物體的恆定歡迎七年級的孩子們一起迎戰期末生物科考試的勝利!
URL:https://humbleliuchinese.com/event/%e8%aa%aa%e6%98%8e%e6%9c%83-%ef%bc%88%e6%b8%ac%e8%a9%a6/
CATEGORIES:免費活動
ATTACH;FMTTYPE=image/jpeg:https://humbleliuchinese.com/wp-content/uploads/2024/12/七年級三段免費生物講座-2000-x-765-像素.jpg
END:VEVENT
END:VCALENDAR