BEGIN:VCALENDAR
VERSION:2.0
PRODID:-//劉謙國文 - ECPv6.15.8//NONSGML v1.0//EN
CALSCALE:GREGORIAN
METHOD:PUBLISH
X-WR-CALNAME:劉謙國文
X-ORIGINAL-URL:https://humbleliuchinese.com
X-WR-CALDESC:劉謙國文 的事件
REFRESH-INTERVAL;VALUE=DURATION:PT1H
X-Robots-Tag:noindex
X-PUBLISHED-TTL:PT1H
BEGIN:VTIMEZONE
TZID:Asia/Taipei
BEGIN:STANDARD
TZOFFSETFROM:+0800
TZOFFSETTO:+0800
TZNAME:CST
DTSTART:20240101T000000
END:STANDARD
END:VTIMEZONE
BEGIN:VEVENT
DTSTART;TZID=Asia/Taipei:20250120T180000
DTEND;TZID=Asia/Taipei:20250120T200000
DTSTAMP:20260425T234842
CREATED:20241226T162049Z
LAST-MODIFIED:20250109T183845Z
UID:2721-1737396000-1737403200@humbleliuchinese.com
SUMMARY:七升八寒假理化實驗型男王昊來囉!
DESCRIPTION:最帥氣與專業的理化老師 \n翰林雲端學院108新課綱線上老師 \n著作：國中理化一點都不難 \n最高學歷：清華大學數理教育所 \n這麼優質還不來參加!!
URL:https://humbleliuchinese.com/event/%e9%80%99%e6%98%af%e4%b8%80%e5%80%8b%e6%b4%bb%e5%8b%95%e7%a4%ba%e7%af%84%ef%bc%88%e8%ab%8b%e8%87%aa%e5%b7%b1%e6%8f%9b%e5%9c%96%e7%89%87/
CATEGORIES:免費活動
ATTACH;FMTTYPE=image/jpeg:https://humbleliuchinese.com/wp-content/uploads/2024/12/七升八理化實驗活動-2000-x-765-像素-1.jpg
END:VEVENT
BEGIN:VEVENT
DTSTART;TZID=Asia/Taipei:20250108T170000
DTEND;TZID=Asia/Taipei:20250108T183000
DTSTAMP:20260425T234842
CREATED:20241226T153021Z
LAST-MODIFIED:20250103T162305Z
UID:2653-1736355600-1736361000@humbleliuchinese.com
SUMMARY:七年級生物三段總複習活動又來囉!
DESCRIPTION:林百倫老師再次帶給大家嶄新的三段素養考題: \nCH5生物體協調作用 \nCH6生物體的恆定歡迎七年級的孩子們一起迎戰期末生物科考試的勝利!
URL:https://humbleliuchinese.com/event/%e8%aa%aa%e6%98%8e%e6%9c%83-%ef%bc%88%e6%b8%ac%e8%a9%a6/
CATEGORIES:免費活動
ATTACH;FMTTYPE=image/jpeg:https://humbleliuchinese.com/wp-content/uploads/2024/12/七年級三段免費生物講座-2000-x-765-像素.jpg
END:VEVENT
END:VCALENDAR